BEGIN:VCALENDAR
VERSION:2.0
PRODID:-//ExpressionEngine Easy iCalendar plugin//NONSGML v2.0.0//EN
X-WR-TIMEZONE:America/Chicago
X-WR-CALNAME:Upcoming Auctions
BEGIN:VEVENT
UID:160089
DTSTAMP:20260427T130000
DTSTART:20260427T130000
DTEND:20260501T130000
SUMMARY:Ziems Farm LLC 80+/- Acres Online Auction ONLY
LOCATION:{location}
DESCRIPTION:Register today to bid on this Tract of Hay meadow in Holt 
 County\, NE that has been held by the same family for many ye
 ars!!
URL:https://www.landmarketers.com/auctions/detail/bw160089
SEQUENCE:1
END:VEVENT
END:VCALENDAR